BEGIN:VCALENDAR
VERSION:2.0
PRODID:-//https://gclra.realtor//NONSGML kigkonsult.se iCalcreator 2.41.71//
CALSCALE:GREGORIAN
METHOD:PUBLISH
UID:65613337-3633-4838-b139-316139353935
X-WR-CALNAME:JCal Pro Calendar
X-WR-CALDESC:Your online events calendar
X-WR-TIMEZONE:America/Chicago
BEGIN:VTIMEZONE
TZID:America/Chicago
TZUNTIL:20271107T070000Z
BEGIN:STANDARD
TZNAME:CST
DTSTART:20251102T020000
TZOFFSETFROM:-0500
TZOFFSETTO:-0600
RDATE:20261101T020000
END:STANDARD
BEGIN:DAYLIGHT
TZNAME:CDT
DTSTART:20260308T020000
TZOFFSETFROM:-0600
TZOFFSETTO:-0500
RDATE:20270314T020000
END:DAYLIGHT
END:VTIMEZONE
BEGIN:VEVENT
UID:20210909T080000CDT-89351Ahvm6@http://lt19iws.rapams.com/
DTSTAMP:20260422T112233Z
CATEGORIES:Professional Development Committee
DESCRIPTION:<div style='text-align: center\;'><span style='font-size: 14pt\
 ; font-family: 'comic sans ms'\, sans-serif\;'>Offered every 2nd Friday of
  each month from 8am to 12 noon. This IN PERSON training is held at the <b
 r />Board Training Room <br />and is an alternative to the virtual trainin
 g.</span></div>\n<div style='text-align: center\;'><span style='font-size:
  14pt\; font-family: 'comic sans ms'\, sans-serif\;'>If the virtual traini
 ng is still the best fit for you\, feel free to utilize that option.</span
 ></div>\n<div style='text-align: center\;'><span style='font-size: 14pt\; 
 font-family: 'comic sans ms'\, sans-serif\;'>You may register through Even
 tbrite here.<br />This class will satisfy your Code of Ethics requirement 
 <br />for the current cycle.<br /><br /><a class='btn btn-primary btn-lg' 
 href='https://www.eventbrite.com/o/greater-central-louisiana-realtors-asso
 ciation-9089637164'><span class='glyphicon glyphicon-'></span> Click Here 
 to Register</a><br /></span></div>
DTSTART;TZID=America/Chicago:20220114T080000
DTEND;TZID=America/Chicago:20220114T120000
RRULE:FREQ=MONTHLY;COUNT=12;INTERVAL=1;BYDAY=FR;BYSETPOS=2
SUMMARY:Cornerstone New Member Orientation
URL:https://gclra.realtor/consumer-events/75-professional-development-calen
 dar/3547-cornerstone-new-member-orientation
X-ALT-DESC;FMTTYPE=TEXT/HTML:<div style='text-align: center\;'><span style=
 'font-size: 14pt\; font-family: 'comic sans ms'\, sans-serif\;'>Offered ev
 ery 2nd Friday of each month from 8am to 12 noon. This IN PERSON training 
 is held at the <br />Board Training Room <br />and is an alternative to th
 e virtual training.</span></div>\n<div style='text-align: center\;'><span 
 style='font-size: 14pt\; font-family: 'comic sans ms'\, sans-serif\;'>If t
 he virtual training is still the best fit for you\, feel free to utilize t
 hat option.</span></div>\n<div style='text-align: center\;'><span style='f
 ont-size: 14pt\; font-family: 'comic sans ms'\, sans-serif\;'>You may regi
 ster through Eventbrite here.<br />This class will satisfy your Code of Et
 hics requirement <br />for the current cycle.<br /><br /><a class='btn btn
 -primary btn-lg' href='https://www.eventbrite.com/o/greater-central-louisi
 ana-realtors-association-9089637164'><span class='glyphicon glyphicon-'></
 span> Click Here to Register</a><br /></span></div>
END:VEVENT
END:VCALENDAR
