BEGIN:VCALENDAR
VERSION:2.0
PRODID:-//https://gclra.realtor//NONSGML kigkonsult.se iCalcreator 2.41.71//
CALSCALE:GREGORIAN
METHOD:PUBLISH
UID:61316465-3139-4664-b062-623963616130
X-WR-CALNAME:JCal Pro Calendar
X-WR-CALDESC:Your online events calendar
X-WR-TIMEZONE:America/Chicago
BEGIN:VTIMEZONE
TZID:America/Chicago
TZUNTIL:20271107T070000Z
BEGIN:STANDARD
TZNAME:CST
DTSTART:20251102T020000
TZOFFSETFROM:-0500
TZOFFSETTO:-0600
RDATE:20261101T020000
END:STANDARD
BEGIN:DAYLIGHT
TZNAME:CDT
DTSTART:20260308T020000
TZOFFSETFROM:-0600
TZOFFSETTO:-0500
RDATE:20270314T020000
END:DAYLIGHT
END:VTIMEZONE
BEGIN:VEVENT
UID:20240502T110000UTC-5100kS7OVJ@https://gclra.realtor/
DTSTAMP:20260419T163800Z
CATEGORIES:Meetings
DTSTART;TZID=America/Chicago:20240502T000000
DTEND;TZID=America/Chicago:20240502T235959
SUMMARY:Affiliate Appreciation
URL:https://gclra.realtor/consumer-events/81-meetings/3889-affiliate-apprec
 iation
END:VEVENT
END:VCALENDAR
