BEGIN:VCALENDAR
VERSION:2.0
PRODID:-//https://gclra.realtor//NONSGML kigkonsult.se iCalcreator 2.41.71//
CALSCALE:GREGORIAN
METHOD:PUBLISH
UID:62363164-3037-4865-a664-373439653464
X-WR-CALNAME:JCal Pro Calendar
X-WR-CALDESC:Your online events calendar
X-WR-TIMEZONE:America/Chicago
BEGIN:VTIMEZONE
TZID:America/Chicago
TZUNTIL:20271107T070000Z
BEGIN:STANDARD
TZNAME:CST
DTSTART:20251102T020000
TZOFFSETFROM:-0500
TZOFFSETTO:-0600
RDATE:20261101T020000
END:STANDARD
BEGIN:DAYLIGHT
TZNAME:CDT
DTSTART:20260308T020000
TZOFFSETFROM:-0600
TZOFFSETTO:-0500
RDATE:20270314T020000
END:DAYLIGHT
END:VTIMEZONE
BEGIN:VEVENT
UID:20211103T120000CDT-5981DbA7bs@http://lt19iws.rapams.com/
DTSTAMP:20260419T215909Z
CATEGORIES:Professional Development Committee
DESCRIPTION:<div style='text-align: center\;'><span style='font-family: 'co
 mic sans ms'\, sans-serif\; font-size: 14pt\;' data-slate-fragment='JTdCJT
 Iyb2JqZWN0JTIyJTNBJTIyZG9jdW1lbnQlMjIlMkMlMjJkYXRhJTIyJTNBJTdCJTdEJTJDJTIy
 bm9kZXMlMjIlM0ElNUIlN0IlMjJvYmplY3QlMjIlM0ElMjJibG9jayUyMiUyQyUyMnR5cGUlMj
 IlM0ElMjJwYXJhZ3JhcGglMjIlMkMlMjJkYXRhJTIyJTNBJTdCJTIyY2xhc3NOYW1lJTIyJTNB
 bnVsbCU3RCUyQyUyMm5vZGVzJTIyJTNBJTVCJTdCJTIyb2JqZWN0JTIyJTNBJTIydGV4dCUyMi
 UyQyUyMmxlYXZlcyUyMiUzQSU1QiU3QiUyMm9iamVjdCUyMiUzQSUyMmxlYWYlMjIlMkMlMjJ0
 ZXh0JTIyJTNBJTIyJUVGJUJCJUJGVGhpcyUyMGNvdXJzZSUyMHdpbGwlMjBmdWxmaWxsJTIwdG
 hlJTIwcmVxdWlyZW1lbnQlMjBmb3IlMjB0aGUlMjAyMDIxJTIwQWdlbnQlMjBNYW5kYXRvcnkl
 MjBDb3Vyc2UlMjBUb3BpYyUyMCVFMiU4MCU5Q0Jhc2ljcyUyMG9mJTIwSW52ZXN0bWVudCUyMF
 Byb3BlcnR5JTIwJTI2JTIwUHJvcGVydHklMjBNYW5hZ2VtZW50JUUyJTgwJTlEJTIwYXMlMjBt
 YW5kYXRlZCUyMGJ5JTIwdGhlJTIwTFJFQy4lMjAlMjIlMkMlMjJtYXJrcyUyMiUzQSU1QiU1RC
 U3RCU1RCU3RCU1RCU3RCU1RCU3RA=='><span style='font-family: 'comic sans ms'\
 , sans-serif\; font-size: 14pt\;' data-slate-fragment='JTdCJTIyb2JqZWN0JTI
 yJTNBJTIyZG9jdW1lbnQlMjIlMkMlMjJkYXRhJTIyJTNBJTdCJTdEJTJDJTIybm9kZXMlMjIlM
 0ElNUIlN0IlMjJvYmplY3QlMjIlM0ElMjJibG9jayUyMiUyQyUyMnR5cGUlMjIlM0ElMjJwYXJ
 hZ3JhcGglMjIlMkMlMjJkYXRhJTIyJTNBJTdCJTIyY2xhc3NOYW1lJTIyJTNBbnVsbCU3RCUyQ
 yUyMm5vZGVzJTIyJTNBJTVCJTdCJTIyb2JqZWN0JTIyJTNBJTIydGV4dCUyMiUyQyUyMmxlYXZ
 lcyUyMiUzQSU1QiU3QiUyMm9iamVjdCUyMiUzQSUyMmxlYWYlMjIlMkMlMjJ0ZXh0JTIyJTNBJ
 TIyJUVGJUJCJUJGVGhpcyUyMGNvdXJzZSUyMHdpbGwlMjBmdWxmaWxsJTIwdGhlJTIwcmVxdWl
 yZW1lbnQlMjBmb3IlMjB0aGUlMjAyMDIxJTIwQWdlbnQlMjBNYW5kYXRvcnklMjBDb3Vyc2UlM
 jBUb3BpYyUyMCVFMiU4MCU5Q0Jhc2ljcyUyMG9mJTIwSW52ZXN0bWVudCUyMFByb3BlcnR5JTI
 wJTI2JTIwUHJvcGVydHklMjBNYW5hZ2VtZW50JUUyJTgwJTlEJTIwYXMlMjBtYW5kYXRlZCUyM
 GJ5JTIwdGhlJTIwTFJFQy4lMjAlMjIlMkMlMjJtYXJrcyUyMiUzQSU1QiU1RCU3RCU1RCU3RCU
 1RCU3RCU1RCU3RA=='><br /></span></span>\n<p data-key='12'><span style='fon
 t-family: 'comic sans ms'\, sans-serif\; font-size: 18pt\;' data-key='13'>
 Code of Ethics Cycle 6 Requirement </span></p>\n<p data-key='14'><span sty
 le='font-family: 'comic sans ms'\, sans-serif\; font-size: 18pt\;' data-ke
 y='15'>AEX 3rd Floor Meeting Room </span></p>\n<p data-key='16' data-slate
 -fragment='JTdCJTIyb2JqZWN0JTIyJTNBJTIyZG9jdW1lbnQlMjIlMkMlMjJkYXRhJTIyJTN
 BJTdCJTdEJTJDJTIybm9kZXMlMjIlM0ElNUIlN0IlMjJvYmplY3QlMjIlM0ElMjJibG9jayUyM
 iUyQyUyMnR5cGUlMjIlM0ElMjJwYXJhZ3JhcGglMjIlMkMlMjJkYXRhJTIyJTNBJTdCJTIyY2x
 hc3NOYW1lJTIyJTNBbnVsbCU3RCUyQyUyMm5vZGVzJTIyJTNBJTVCJTdCJTIyb2JqZWN0JTIyJ
 TNBJTIydGV4dCUyMiUyQyUyMmxlYXZlcyUyMiUzQSU1QiU3QiUyMm9iamVjdCUyMiUzQSUyMmx
 lYWYlMjIlMkMlMjJ0ZXh0JTIyJTNBJTIyJUVGJUJCJUJGQ29kZSUyMG9mJTIwRXRoaWNzJTIwQ
 3ljbGUlMjA2JTIwUmVxdWlyZW1lbnQlNUNuJTIyJTJDJTIybWFya3MlMjIlM0ElNUIlNUQlN0Q
 lNUQlN0QlNUQlN0QlMkMlN0IlMjJvYmplY3QlMjIlM0ElMjJibG9jayUyMiUyQyUyMnR5cGUlM
 jIlM0ElMjJwYXJhZ3JhcGglMjIlMkMlMjJkYXRhJTIyJTNBJTdCJTIyY2xhc3NOYW1lJTIyJTN
 BbnVsbCU3RCUyQyUyMm5vZGVzJTIyJTNBJTVCJTdCJTIyb2JqZWN0JTIyJTNBJTIydGV4dCUyM
 iUyQyUyMmxlYXZlcyUyMiUzQSU1QiU3QiUyMm9iamVjdCUyMiUzQSUyMmxlYWYlMjIlMkMlMjJ
 0ZXh0JTIyJTNBJTIyQUVYJTIwM3JkJTIwRmxvb3IlMjBNZWV0aW5nJTIwUm9vbSU1Q24lMjIlM
 kMlMjJtYXJrcyUyMiUzQSU1QiU1RCU3RCU1RCU3RCU1RCU3RCUyQyU3QiUyMm9iamVjdCUyMiU
 zQSUyMmJsb2NrJTIyJTJDJTIydHlwZSUyMiUzQSUyMnBhcmFncmFwaCUyMiUyQyUyMmRhdGElM
 jIlM0ElN0IlMjJjbGFzc05hbWUlMjIlM0FudWxsJTdEJTJDJTIybm9kZXMlMjIlM0ElNUIlN0I
 lMjJvYmplY3QlMjIlM0ElMjJ0ZXh0JTIyJTJDJTIybGVhdmVzJTIyJTNBJTVCJTdCJTIyb2JqZ
 WN0JTIyJTNBJTIybGVhZiUyMiUyQyUyMnRleHQlMjIlM0ElMjJJbnN0cnVjdG9yJTNBJTIwVGl
 tJTIwVHVsbG9zJTIyJTJDJTIybWFya3MlMjIlM0ElNUIlNUQlN0QlNUQlN0QlNUQlN0QlNUQlN
 0Q='><span style='font-family: 'comic sans ms'\, sans-serif\; font-size: 1
 8pt\;' data-key='17'>Instructor: Tim Tullos</span></p>\n</div>\n<a class='
 btn btn-primary btn-lg' href='https://www.eventbrite.com/e/code-of-ethics-
 tickets-188472465217' rel='alternate'><span class='glyphicon glyphicon-'><
 /span> Click Here to Register</a>
DTSTART;TZID=America/Chicago:20211103T080000
DTEND;TZID=America/Chicago:20211103T120000
SUMMARY:2021 Code of Ethics
URL:https://gclra.realtor/consumer-events/75-professional-development-calen
 dar/3567-2021-code-of-ethics
X-ALT-DESC;FMTTYPE=TEXT/HTML:<div style='text-align: center\;'><span style=
 'font-family: 'comic sans ms'\, sans-serif\; font-size: 14pt\;' data-slate
 -fragment='JTdCJTIyb2JqZWN0JTIyJTNBJTIyZG9jdW1lbnQlMjIlMkMlMjJkYXRhJTIyJTN
 BJTdCJTdEJTJDJTIybm9kZXMlMjIlM0ElNUIlN0IlMjJvYmplY3QlMjIlM0ElMjJibG9jayUyM
 iUyQyUyMnR5cGUlMjIlM0ElMjJwYXJhZ3JhcGglMjIlMkMlMjJkYXRhJTIyJTNBJTdCJTIyY2x
 hc3NOYW1lJTIyJTNBbnVsbCU3RCUyQyUyMm5vZGVzJTIyJTNBJTVCJTdCJTIyb2JqZWN0JTIyJ
 TNBJTIydGV4dCUyMiUyQyUyMmxlYXZlcyUyMiUzQSU1QiU3QiUyMm9iamVjdCUyMiUzQSUyMmx
 lYWYlMjIlMkMlMjJ0ZXh0JTIyJTNBJTIyJUVGJUJCJUJGVGhpcyUyMGNvdXJzZSUyMHdpbGwlM
 jBmdWxmaWxsJTIwdGhlJTIwcmVxdWlyZW1lbnQlMjBmb3IlMjB0aGUlMjAyMDIxJTIwQWdlbnQ
 lMjBNYW5kYXRvcnklMjBDb3Vyc2UlMjBUb3BpYyUyMCVFMiU4MCU5Q0Jhc2ljcyUyMG9mJTIwS
 W52ZXN0bWVudCUyMFByb3BlcnR5JTIwJTI2JTIwUHJvcGVydHklMjBNYW5hZ2VtZW50JUUyJTg
 wJTlEJTIwYXMlMjBtYW5kYXRlZCUyMGJ5JTIwdGhlJTIwTFJFQy4lMjAlMjIlMkMlMjJtYXJrc
 yUyMiUzQSU1QiU1RCU3RCU1RCU3RCU1RCU3RCU1RCU3RA=='><span style='font-family:
  'comic sans ms'\, sans-serif\; font-size: 14pt\;' data-slate-fragment='JT
 dCJTIyb2JqZWN0JTIyJTNBJTIyZG9jdW1lbnQlMjIlMkMlMjJkYXRhJTIyJTNBJTdCJTdEJTJD
 JTIybm9kZXMlMjIlM0ElNUIlN0IlMjJvYmplY3QlMjIlM0ElMjJibG9jayUyMiUyQyUyMnR5cG
 UlMjIlM0ElMjJwYXJhZ3JhcGglMjIlMkMlMjJkYXRhJTIyJTNBJTdCJTIyY2xhc3NOYW1lJTIy
 JTNBbnVsbCU3RCUyQyUyMm5vZGVzJTIyJTNBJTVCJTdCJTIyb2JqZWN0JTIyJTNBJTIydGV4dC
 UyMiUyQyUyMmxlYXZlcyUyMiUzQSU1QiU3QiUyMm9iamVjdCUyMiUzQSUyMmxlYWYlMjIlMkMl
 MjJ0ZXh0JTIyJTNBJTIyJUVGJUJCJUJGVGhpcyUyMGNvdXJzZSUyMHdpbGwlMjBmdWxmaWxsJT
 IwdGhlJTIwcmVxdWlyZW1lbnQlMjBmb3IlMjB0aGUlMjAyMDIxJTIwQWdlbnQlMjBNYW5kYXRv
 cnklMjBDb3Vyc2UlMjBUb3BpYyUyMCVFMiU4MCU5Q0Jhc2ljcyUyMG9mJTIwSW52ZXN0bWVudC
 UyMFByb3BlcnR5JTIwJTI2JTIwUHJvcGVydHklMjBNYW5hZ2VtZW50JUUyJTgwJTlEJTIwYXMl
 MjBtYW5kYXRlZCUyMGJ5JTIwdGhlJTIwTFJFQy4lMjAlMjIlMkMlMjJtYXJrcyUyMiUzQSU1Qi
 U1RCU3RCU1RCU3RCU1RCU3RCU1RCU3RA=='><br /></span></span>\n<p data-key='12'
 ><span style='font-family: 'comic sans ms'\, sans-serif\; font-size: 18pt\
 ;' data-key='13'>Code of Ethics Cycle 6 Requirement </span></p>\n<p data-k
 ey='14'><span style='font-family: 'comic sans ms'\, sans-serif\; font-size
 : 18pt\;' data-key='15'>AEX 3rd Floor Meeting Room </span></p>\n<p data-ke
 y='16' data-slate-fragment='JTdCJTIyb2JqZWN0JTIyJTNBJTIyZG9jdW1lbnQlMjIlMk
 MlMjJkYXRhJTIyJTNBJTdCJTdEJTJDJTIybm9kZXMlMjIlM0ElNUIlN0IlMjJvYmplY3QlMjIl
 M0ElMjJibG9jayUyMiUyQyUyMnR5cGUlMjIlM0ElMjJwYXJhZ3JhcGglMjIlMkMlMjJkYXRhJT
 IyJTNBJTdCJTIyY2xhc3NOYW1lJTIyJTNBbnVsbCU3RCUyQyUyMm5vZGVzJTIyJTNBJTVCJTdC
 JTIyb2JqZWN0JTIyJTNBJTIydGV4dCUyMiUyQyUyMmxlYXZlcyUyMiUzQSU1QiU3QiUyMm9iam
 VjdCUyMiUzQSUyMmxlYWYlMjIlMkMlMjJ0ZXh0JTIyJTNBJTIyJUVGJUJCJUJGQ29kZSUyMG9m
 JTIwRXRoaWNzJTIwQ3ljbGUlMjA2JTIwUmVxdWlyZW1lbnQlNUNuJTIyJTJDJTIybWFya3MlMj
 IlM0ElNUIlNUQlN0QlNUQlN0QlNUQlN0QlMkMlN0IlMjJvYmplY3QlMjIlM0ElMjJibG9jayUy
 MiUyQyUyMnR5cGUlMjIlM0ElMjJwYXJhZ3JhcGglMjIlMkMlMjJkYXRhJTIyJTNBJTdCJTIyY2
 xhc3NOYW1lJTIyJTNBbnVsbCU3RCUyQyUyMm5vZGVzJTIyJTNBJTVCJTdCJTIyb2JqZWN0JTIy
 JTNBJTIydGV4dCUyMiUyQyUyMmxlYXZlcyUyMiUzQSU1QiU3QiUyMm9iamVjdCUyMiUzQSUyMm
 xlYWYlMjIlMkMlMjJ0ZXh0JTIyJTNBJTIyQUVYJTIwM3JkJTIwRmxvb3IlMjBNZWV0aW5nJTIw
 Um9vbSU1Q24lMjIlMkMlMjJtYXJrcyUyMiUzQSU1QiU1RCU3RCU1RCU3RCU1RCU3RCUyQyU3Qi
 UyMm9iamVjdCUyMiUzQSUyMmJsb2NrJTIyJTJDJTIydHlwZSUyMiUzQSUyMnBhcmFncmFwaCUy
 MiUyQyUyMmRhdGElMjIlM0ElN0IlMjJjbGFzc05hbWUlMjIlM0FudWxsJTdEJTJDJTIybm9kZX
 MlMjIlM0ElNUIlN0IlMjJvYmplY3QlMjIlM0ElMjJ0ZXh0JTIyJTJDJTIybGVhdmVzJTIyJTNB
 JTVCJTdCJTIyb2JqZWN0JTIyJTNBJTIybGVhZiUyMiUyQyUyMnRleHQlMjIlM0ElMjJJbnN0cn
 VjdG9yJTNBJTIwVGltJTIwVHVsbG9zJTIyJTJDJTIybWFya3MlMjIlM0ElNUIlNUQlN0QlNUQl
 N0QlNUQlN0QlNUQlN0Q='><span style='font-family: 'comic sans ms'\, sans-ser
 if\; font-size: 18pt\;' data-key='17'>Instructor: Tim Tullos</span></p>\n<
 /div>\n<a class='btn btn-primary btn-lg' href='https://www.eventbrite.com/
 e/code-of-ethics-tickets-188472465217' rel='alternate'><span class='glyphi
 con glyphicon-'></span> Click Here to Register</a>
END:VEVENT
BEGIN:VEVENT
UID:20211106T140000CDT-7377PK9Oij@http://lt19iws.rapams.com/
DTSTAMP:20260419T215909Z
CATEGORIES:Affiliate & Membership Events
DESCRIPTION:<div style='text-align: center\;' data-key='27'><span data-key=
 '28'><br /><span style='font-family: 'comic sans ms'\, sans-serif\; font-s
 ize: 14pt\;'>FOOD-MUSIC-BEER-PRIZES</span><br /><span style='font-family: 
 'comic sans ms'\, sans-serif\; font-size: 14pt\;'>NO ENTRY FEE</span><br /
 ><br /><span style='font-family: 'comic sans ms'\, sans-serif\; font-size:
  14pt\;'>Prize Categories:</span></span></div>\n<div style='text-align: ce
 nter\;' data-key='29'><span style='font-family: 'comic sans ms'\, sans-ser
 if\; font-size: 14pt\;' data-key='30'>Wild Game People's Choice</span></di
 v>\n<div style='text-align: center\;' data-key='31'><span style='font-fami
 ly: 'comic sans ms'\, sans-serif\; font-size: 14pt\;' data-key='32'>Best M
 ain Dish Most Team Sprit</span></div>\n<div style='text-align: center\;' d
 ata-key='33'><span style='font-family: 'comic sans ms'\, sans-serif\; font
 -size: 14pt\;' data-key='34'>Best Side Dish Best Decorated Tent</span></di
 v>\n<div style='text-align: center\;' data-key='35'><span style='font-fami
 ly: 'comic sans ms'\, sans-serif\; font-size: 14pt\;' data-key='36'>Sweet 
 Tooth </span></div>\n<div style='text-align: center\;' data-key='37' data-
 slate-fragment='JTdCJTIyb2JqZWN0JTIyJTNBJTIyZG9jdW1lbnQlMjIlMkMlMjJkYXRhJT
 IyJTNBJTdCJTdEJTJDJTIybm9kZXMlMjIlM0ElNUIlN0IlMjJvYmplY3QlMjIlM0ElMjJibG9j
 ayUyMiUyQyUyMnR5cGUlMjIlM0ElMjJwYXJhZ3JhcGglMjIlMkMlMjJkYXRhJTIyJTNBJTdCJT
 IyY2xhc3NOYW1lJTIyJTNBbnVsbCU3RCUyQyUyMm5vZGVzJTIyJTNBJTVCJTdCJTIyb2JqZWN0
 JTIyJTNBJTIydGV4dCUyMiUyQyUyMmxlYXZlcyUyMiUzQSU1QiU3QiUyMm9iamVjdCUyMiUzQS
 UyMmxlYWYlMjIlMkMlMjJ0ZXh0JTIyJTNBJTIyUHJpemUlMjBDYXRlZ29yaWVzJTNBJTIyJTJD
 JTIybWFya3MlMjIlM0ElNUIlNUQlN0QlNUQlN0QlNUQlN0QlMkMlN0IlMjJvYmplY3QlMjIlM0
 ElMjJibG9jayUyMiUyQyUyMnR5cGUlMjIlM0ElMjJwYXJhZ3JhcGglMjIlMkMlMjJkYXRhJTIy
 JTNBJTdCJTIyY2xhc3NOYW1lJTIyJTNBbnVsbCU3RCUyQyUyMm5vZGVzJTIyJTNBJTVCJTdCJT
 Iyb2JqZWN0JTIyJTNBJTIydGV4dCUyMiUyQyUyMmxlYXZlcyUyMiUzQSU1QiU3QiUyMm9iamVj
 dCUyMiUzQSUyMmxlYWYlMjIlMkMlMjJ0ZXh0JTIyJTNBJTIyV2lsZCUyMEdhbWUlMjAlMjAlMj
 AlMjAlMjAlMjAlMjAlMjAlMjAlMjAlMjAlMjAlMjAlMjAlMjAlMjAlMjAlMjAlMjAlMjAlMjAl
 MjAlMjAlMjAlMjAlMjAlMjAlMjAlMjAlMjAlMjAlMjAlMjAlMjAlMjAlMjAlMjAlMjAlMjAlMj
 BQZW9wbGUncyUyMENob2ljZSUyMiUyQyUyMm1hcmtzJTIyJTNBJTVCJTVEJTdEJTVEJTdEJTVE
 JTdEJTJDJTdCJTIyb2JqZWN0JTIyJTNBJTIyYmxvY2slMjIlMkMlMjJ0eXBlJTIyJTNBJTIycG
 FyYWdyYXBoJTIyJTJDJTIyZGF0YSUyMiUzQSU3QiUyMmNsYXNzTmFtZSUyMiUzQW51bGwlN0Ql
 MkMlMjJub2RlcyUyMiUzQSU1QiU3QiUyMm9iamVjdCUyMiUzQSUyMnRleHQlMjIlMkMlMjJsZW
 F2ZXMlMjIlM0ElNUIlN0IlMjJvYmplY3QlMjIlM0ElMjJsZWFmJTIyJTJDJTIydGV4dCUyMiUz
 QSUyMkJlc3QlMjBNYWluJTIwRGlzaCUyMCUyMCUyMCUyMCUyMCUyMCUyMCUyMCUyMCUyMCUyMC
 UyMCUyMCUyMCUyMCUyMCUyMCUyMCUyMCUyMCUyMCUyMCUyMCUyMCUyMCUyMCUyMCUyMCUyMCUy
 MCUyME1vc3QlMjBUZWFtJTIwU3ByaXQlMjIlMkMlMjJtYXJrcyUyMiUzQSU1QiU1RCU3RCU1RC
 U3RCU1RCU3RCUyQyU3QiUyMm9iamVjdCUyMiUzQSUyMmJsb2NrJTIyJTJDJTIydHlwZSUyMiUz
 QSUyMnBhcmFncmFwaCUyMiUyQyUyMmRhdGElMjIlM0ElN0IlMjJjbGFzc05hbWUlMjIlM0FudW
 xsJTdEJTJDJTIybm9kZXMlMjIlM0ElNUIlN0IlMjJvYmplY3QlMjIlM0ElMjJ0ZXh0JTIyJTJD
 JTIybGVhdmVzJTIyJTNBJTVCJTdCJTIyb2JqZWN0JTIyJTNBJTIybGVhZiUyMiUyQyUyMnRleH
 QlMjIlM0ElMjJCZXN0JTIwU2lkZSUyMERpc2glMjAlMjAlMjAlMjAlMjAlMjAlMjAlMjAlMjAl
 MjAlMjAlMjAlMjAlMjAlMjAlMjAlMjAlMjAlMjAlMjAlMjAlMjAlMjAlMjAlMjAlMjAlMjAlMj
 AlMjAlMjAlMjAlMjBCZXN0JTIwRGVjb3JhdGVkJTIwVGVudCUyMiUyQyUyMm1hcmtzJTIyJTNB
 JTVCJTVEJTdEJTVEJTdEJTVEJTdEJTJDJTdCJTIyb2JqZWN0JTIyJTNBJTIyYmxvY2slMjIlMk
 MlMjJ0eXBlJTIyJTNBJTIycGFyYWdyYXBoJTIyJTJDJTIyZGF0YSUyMiUzQSU3QiUyMmNsYXNz
 TmFtZSUyMiUzQW51bGwlN0QlMkMlMjJub2RlcyUyMiUzQSU1QiU3QiUyMm9iamVjdCUyMiUzQS
 UyMnRleHQlMjIlMkMlMjJsZWF2ZXMlMjIlM0ElNUIlN0IlMjJvYmplY3QlMjIlM0ElMjJsZWFm
 JTIyJTJDJTIydGV4dCUyMiUzQSUyMlN3ZWV0JTIwVG9vdGglMjAlMjIlMkMlMjJtYXJrcyUyMi
 UzQSU1QiU1RCU3RCU1RCU3RCU1RCU3RCUyQyU3QiUyMm9iamVjdCUyMiUzQSUyMmJsb2NrJTIy
 JTJDJTIydHlwZSUyMiUzQSUyMnBhcmFncmFwaCUyMiUyQyUyMmRhdGElMjIlM0ElN0IlMjJjbG
 Fzc05hbWUlMjIlM0FudWxsJTdEJTJDJTIybm9kZXMlMjIlM0ElNUIlN0IlMjJvYmplY3QlMjIl
 M0ElMjJ0ZXh0JTIyJTJDJTIybGVhdmVzJTIyJTNBJTVCJTdCJTIyb2JqZWN0JTIyJTNBJTIybG
 VhZiUyMiUyQyUyMnRleHQlMjIlM0ElMjJCcmluZyUyMHlvdXIlMjBvd24lMjBmb29kJTJDJTIw
 Z3JpbGwlMkMlMjBldGMuJTIwQ29vayUyMGZvciUyMDEwMC0xNTAlMjBwZW9wbGUlMjBhbmQlMj
 Bwcm92aWRlJTIwYm93bCUyRnBsYXRlJTIyJTJDJTIybWFya3MlMjIlM0ElNUIlNUQlN0QlNUQl
 N0QlNUQlN0QlNUQlN0Q='><span style='font-family: 'comic sans ms'\, sans-ser
 if\; font-size: 14pt\;' data-key='38'>Bring your own food\, grill\, etc. <
 br />Cook for 100-150 people and provide bowl/plate</span></div>\n<center>
 <a class='btn btn-primary btn-lg' href='https://www.eventbrite.com/o/great
 er-central-louisiana-realtors-association-9089637164'><span class='glyphic
 on glyphicon-'></span> Click Here to Register</a><br /></center>
DTSTART;TZID=America/Chicago:20211106T140000
DTEND;TZID=America/Chicago:20211106T200000
SUMMARY:Member/ Affiliate Tailgate
URL:https://gclra.realtor/consumer-events/71-affiliate-membership-events/35
 68-member-affiliate-tailgate
X-ALT-DESC;FMTTYPE=TEXT/HTML:<div style='text-align: center\;' data-key='27
 '><span data-key='28'><br /><span style='font-family: 'comic sans ms'\, sa
 ns-serif\; font-size: 14pt\;'>FOOD-MUSIC-BEER-PRIZES</span><br /><span sty
 le='font-family: 'comic sans ms'\, sans-serif\; font-size: 14pt\;'>NO ENTR
 Y FEE</span><br /><br /><span style='font-family: 'comic sans ms'\, sans-s
 erif\; font-size: 14pt\;'>Prize Categories:</span></span></div>\n<div styl
 e='text-align: center\;' data-key='29'><span style='font-family: 'comic sa
 ns ms'\, sans-serif\; font-size: 14pt\;' data-key='30'>Wild Game People's 
 Choice</span></div>\n<div style='text-align: center\;' data-key='31'><span
  style='font-family: 'comic sans ms'\, sans-serif\; font-size: 14pt\;' dat
 a-key='32'>Best Main Dish Most Team Sprit</span></div>\n<div style='text-a
 lign: center\;' data-key='33'><span style='font-family: 'comic sans ms'\, 
 sans-serif\; font-size: 14pt\;' data-key='34'>Best Side Dish Best Decorate
 d Tent</span></div>\n<div style='text-align: center\;' data-key='35'><span
  style='font-family: 'comic sans ms'\, sans-serif\; font-size: 14pt\;' dat
 a-key='36'>Sweet Tooth </span></div>\n<div style='text-align: center\;' da
 ta-key='37' data-slate-fragment='JTdCJTIyb2JqZWN0JTIyJTNBJTIyZG9jdW1lbnQlM
 jIlMkMlMjJkYXRhJTIyJTNBJTdCJTdEJTJDJTIybm9kZXMlMjIlM0ElNUIlN0IlMjJvYmplY3Q
 lMjIlM0ElMjJibG9jayUyMiUyQyUyMnR5cGUlMjIlM0ElMjJwYXJhZ3JhcGglMjIlMkMlMjJkY
 XRhJTIyJTNBJTdCJTIyY2xhc3NOYW1lJTIyJTNBbnVsbCU3RCUyQyUyMm5vZGVzJTIyJTNBJTV
 CJTdCJTIyb2JqZWN0JTIyJTNBJTIydGV4dCUyMiUyQyUyMmxlYXZlcyUyMiUzQSU1QiU3QiUyM
 m9iamVjdCUyMiUzQSUyMmxlYWYlMjIlMkMlMjJ0ZXh0JTIyJTNBJTIyUHJpemUlMjBDYXRlZ29
 yaWVzJTNBJTIyJTJDJTIybWFya3MlMjIlM0ElNUIlNUQlN0QlNUQlN0QlNUQlN0QlMkMlN0IlM
 jJvYmplY3QlMjIlM0ElMjJibG9jayUyMiUyQyUyMnR5cGUlMjIlM0ElMjJwYXJhZ3JhcGglMjI
 lMkMlMjJkYXRhJTIyJTNBJTdCJTIyY2xhc3NOYW1lJTIyJTNBbnVsbCU3RCUyQyUyMm5vZGVzJ
 TIyJTNBJTVCJTdCJTIyb2JqZWN0JTIyJTNBJTIydGV4dCUyMiUyQyUyMmxlYXZlcyUyMiUzQSU
 1QiU3QiUyMm9iamVjdCUyMiUzQSUyMmxlYWYlMjIlMkMlMjJ0ZXh0JTIyJTNBJTIyV2lsZCUyM
 EdhbWUlMjAlMjAlMjAlMjAlMjAlMjAlMjAlMjAlMjAlMjAlMjAlMjAlMjAlMjAlMjAlMjAlMjA
 lMjAlMjAlMjAlMjAlMjAlMjAlMjAlMjAlMjAlMjAlMjAlMjAlMjAlMjAlMjAlMjAlMjAlMjAlM
 jAlMjAlMjAlMjAlMjBQZW9wbGUncyUyMENob2ljZSUyMiUyQyUyMm1hcmtzJTIyJTNBJTVCJTV
 EJTdEJTVEJTdEJTVEJTdEJTJDJTdCJTIyb2JqZWN0JTIyJTNBJTIyYmxvY2slMjIlMkMlMjJ0e
 XBlJTIyJTNBJTIycGFyYWdyYXBoJTIyJTJDJTIyZGF0YSUyMiUzQSU3QiUyMmNsYXNzTmFtZSU
 yMiUzQW51bGwlN0QlMkMlMjJub2RlcyUyMiUzQSU1QiU3QiUyMm9iamVjdCUyMiUzQSUyMnRle
 HQlMjIlMkMlMjJsZWF2ZXMlMjIlM0ElNUIlN0IlMjJvYmplY3QlMjIlM0ElMjJsZWFmJTIyJTJ
 DJTIydGV4dCUyMiUzQSUyMkJlc3QlMjBNYWluJTIwRGlzaCUyMCUyMCUyMCUyMCUyMCUyMCUyM
 CUyMCUyMCUyMCUyMCUyMCUyMCUyMCUyMCUyMCUyMCUyMCUyMCUyMCUyMCUyMCUyMCUyMCUyMCU
 yMCUyMCUyMCUyMCUyMCUyME1vc3QlMjBUZWFtJTIwU3ByaXQlMjIlMkMlMjJtYXJrcyUyMiUzQ
 SU1QiU1RCU3RCU1RCU3RCU1RCU3RCUyQyU3QiUyMm9iamVjdCUyMiUzQSUyMmJsb2NrJTIyJTJ
 DJTIydHlwZSUyMiUzQSUyMnBhcmFncmFwaCUyMiUyQyUyMmRhdGElMjIlM0ElN0IlMjJjbGFzc
 05hbWUlMjIlM0FudWxsJTdEJTJDJTIybm9kZXMlMjIlM0ElNUIlN0IlMjJvYmplY3QlMjIlM0E
 lMjJ0ZXh0JTIyJTJDJTIybGVhdmVzJTIyJTNBJTVCJTdCJTIyb2JqZWN0JTIyJTNBJTIybGVhZ
 iUyMiUyQyUyMnRleHQlMjIlM0ElMjJCZXN0JTIwU2lkZSUyMERpc2glMjAlMjAlMjAlMjAlMjA
 lMjAlMjAlMjAlMjAlMjAlMjAlMjAlMjAlMjAlMjAlMjAlMjAlMjAlMjAlMjAlMjAlMjAlMjAlM
 jAlMjAlMjAlMjAlMjAlMjAlMjAlMjAlMjBCZXN0JTIwRGVjb3JhdGVkJTIwVGVudCUyMiUyQyU
 yMm1hcmtzJTIyJTNBJTVCJTVEJTdEJTVEJTdEJTVEJTdEJTJDJTdCJTIyb2JqZWN0JTIyJTNBJ
 TIyYmxvY2slMjIlMkMlMjJ0eXBlJTIyJTNBJTIycGFyYWdyYXBoJTIyJTJDJTIyZGF0YSUyMiU
 zQSU3QiUyMmNsYXNzTmFtZSUyMiUzQW51bGwlN0QlMkMlMjJub2RlcyUyMiUzQSU1QiU3QiUyM
 m9iamVjdCUyMiUzQSUyMnRleHQlMjIlMkMlMjJsZWF2ZXMlMjIlM0ElNUIlN0IlMjJvYmplY3Q
 lMjIlM0ElMjJsZWFmJTIyJTJDJTIydGV4dCUyMiUzQSUyMlN3ZWV0JTIwVG9vdGglMjAlMjIlM
 kMlMjJtYXJrcyUyMiUzQSU1QiU1RCU3RCU1RCU3RCU1RCU3RCUyQyU3QiUyMm9iamVjdCUyMiU
 zQSUyMmJsb2NrJTIyJTJDJTIydHlwZSUyMiUzQSUyMnBhcmFncmFwaCUyMiUyQyUyMmRhdGElM
 jIlM0ElN0IlMjJjbGFzc05hbWUlMjIlM0FudWxsJTdEJTJDJTIybm9kZXMlMjIlM0ElNUIlN0I
 lMjJvYmplY3QlMjIlM0ElMjJ0ZXh0JTIyJTJDJTIybGVhdmVzJTIyJTNBJTVCJTdCJTIyb2JqZ
 WN0JTIyJTNBJTIybGVhZiUyMiUyQyUyMnRleHQlMjIlM0ElMjJCcmluZyUyMHlvdXIlMjBvd24
 lMjBmb29kJTJDJTIwZ3JpbGwlMkMlMjBldGMuJTIwQ29vayUyMGZvciUyMDEwMC0xNTAlMjBwZ
 W9wbGUlMjBhbmQlMjBwcm92aWRlJTIwYm93bCUyRnBsYXRlJTIyJTJDJTIybWFya3MlMjIlM0E
 lNUIlNUQlN0QlNUQlN0QlNUQlN0QlNUQlN0Q='><span style='font-family: 'comic sa
 ns ms'\, sans-serif\; font-size: 14pt\;' data-key='38'>Bring your own food
 \, grill\, etc. <br />Cook for 100-150 people and provide bowl/plate</span
 ></div>\n<center><a class='btn btn-primary btn-lg' href='https://www.event
 brite.com/o/greater-central-louisiana-realtors-association-9089637164'><sp
 an class='glyphicon glyphicon-'></span> Click Here to Register</a><br /></
 center>
END:VEVENT
END:VCALENDAR
