BEGIN:VCALENDAR
VERSION:2.0
PRODID:-//https://gclra.realtor//NONSGML kigkonsult.se iCalcreator 2.41.71//
CALSCALE:GREGORIAN
METHOD:PUBLISH
UID:35366530-3064-4761-b137-663731326238
X-WR-CALNAME:JCal Pro Calendar
X-WR-CALDESC:Your online events calendar
X-WR-TIMEZONE:America/Chicago
BEGIN:VTIMEZONE
TZID:America/Chicago
TZUNTIL:20271107T070000Z
BEGIN:STANDARD
TZNAME:CST
DTSTART:20251102T020000
TZOFFSETFROM:-0500
TZOFFSETTO:-0600
RDATE:20261101T020000
END:STANDARD
BEGIN:DAYLIGHT
TZNAME:CDT
DTSTART:20260308T020000
TZOFFSETFROM:-0600
TZOFFSETTO:-0500
RDATE:20270314T020000
END:DAYLIGHT
END:VTIMEZONE
BEGIN:VEVENT
UID:20220211T080000CST-5176UZEVU1@https://gclra.realtor/
DTSTAMP:20260420T071723Z
CATEGORIES:Professional Development Committee
DTSTART;TZID=America/Chicago:20220211T080000
DTEND;TZID=America/Chicago:20220211T120000
RRULE:FREQ=MONTHLY;COUNT=12;INTERVAL=1;BYDAY=FR;BYSETPOS=2
SUMMARY:Cornerstone New Member Orientation
URL:https://gclra.realtor/consumer-events/75-professional-development-calen
 dar/3595-cornerstone-new-member-orientation
END:VEVENT
END:VCALENDAR
