BEGIN:VCALENDAR
VERSION:2.0
PRODID:-//https://gclra.realtor//NONSGML kigkonsult.se iCalcreator 2.41.71//
CALSCALE:GREGORIAN
METHOD:PUBLISH
UID:38613331-6265-4233-b635-303863663638
X-WR-CALNAME:JCal Pro Calendar
X-WR-CALDESC:Your online events calendar
X-WR-TIMEZONE:America/Chicago
BEGIN:VTIMEZONE
TZID:America/Chicago
TZUNTIL:20271107T070000Z
BEGIN:STANDARD
TZNAME:CST
DTSTART:20251102T020000
TZOFFSETFROM:-0500
TZOFFSETTO:-0600
RDATE:20261101T020000
END:STANDARD
BEGIN:DAYLIGHT
TZNAME:CDT
DTSTART:20260308T020000
TZOFFSETFROM:-0600
TZOFFSETTO:-0500
RDATE:20270314T020000
END:DAYLIGHT
END:VTIMEZONE
BEGIN:VEVENT
UID:20220126T090000CST-1049FCzeET@https://gclra.realtor/
DTSTAMP:20260419T155954Z
CATEGORIES:Professional Development Committee
DESCRIPTION:<div style='text-align: center\;'><span style='font-size: 12pt\
 ;'>The course discusses contract fundamentals as they relate to four contr
 actual aspects of the real estate industry: purchases\, listings\, and buy
 ers agency\, <br />financing\, and property management. Each of these aspe
 cts of real estate is a primary discussion topic in the course.</span></di
 v>
DTSTART;TZID=America/Chicago:20220126T090000
DTEND;TZID=America/Chicago:20220126T110000
SUMMARY:Contract Class
URL:https://gclra.realtor/consumer-events/75-professional-development-calen
 dar/3674-contract-class
X-ALT-DESC;FMTTYPE=TEXT/HTML:<div style='text-align: center\;'><span style=
 'font-size: 12pt\;'>The course discusses contract fundamentals as they rel
 ate to four contractual aspects of the real estate industry: purchases\, l
 istings\, and buyers agency\, <br />financing\, and property management. E
 ach of these aspects of real estate is a primary discussion topic in the c
 ourse.</span></div>
END:VEVENT
BEGIN:VEVENT
UID:20220127T000000CST-5029Awuvtu@https://gclra.realtor/
DTSTAMP:20260419T155954Z
CATEGORIES:Meetings
DTSTART;TZID=America/Chicago:20220127T000000
DTEND;TZID=America/Chicago:20220127T010000
RRULE:FREQ=MONTHLY;COUNT=11;INTERVAL=1;BYDAY=TH;BYSETPOS=4
SUMMARY:Board of Director Meetings
URL:https://gclra.realtor/consumer-events/81-meetings/3701-bod-meetings
END:VEVENT
END:VCALENDAR
