BEGIN:VCALENDAR
VERSION:2.0
PRODID:-//https://gclra.realtor//NONSGML kigkonsult.se iCalcreator 2.41.71//
CALSCALE:GREGORIAN
METHOD:PUBLISH
UID:65353933-3439-4033-a434-393365356536
X-WR-CALNAME:JCal Pro Calendar
X-WR-CALDESC:Your online events calendar
X-WR-TIMEZONE:America/Chicago
BEGIN:VTIMEZONE
TZID:America/Chicago
TZUNTIL:20271107T070000Z
BEGIN:STANDARD
TZNAME:CST
DTSTART:20251102T020000
TZOFFSETFROM:-0500
TZOFFSETTO:-0600
RDATE:20261101T020000
END:STANDARD
BEGIN:DAYLIGHT
TZNAME:CDT
DTSTART:20260308T020000
TZOFFSETFROM:-0600
TZOFFSETTO:-0500
RDATE:20270314T020000
END:DAYLIGHT
END:VTIMEZONE
BEGIN:VEVENT
UID:20230306T100000CST-5852SuVV5r@https://gclra.realtor/
DTSTAMP:20260422T151932Z
CATEGORIES:Meetings
DTSTART;TZID=America/Chicago:20230309T100000
DTEND;TZID=America/Chicago:20230309T110000
SUMMARY:Finance Meeting
URL:https://gclra.realtor/consumer-events/81-meetings/3833-finance-meeting
END:VEVENT
BEGIN:VEVENT
UID:20230310T090000CST-1016tSdAbK@https://gclra.realtor/
DTSTAMP:20260422T151932Z
CATEGORIES:Affiliate & Membership Events
DTSTART;TZID=America/Chicago:20230310T090000
DTEND;TZID=America/Chicago:20230310T160000
SUMMARY:2023 Realtor Day
URL:https://gclra.realtor/consumer-events/71-affiliate-membership-events/38
 32-2023-realtor-day
END:VEVENT
END:VCALENDAR
