BEGIN:VCALENDAR
VERSION:2.0
PRODID:-//https://gclra.realtor//NONSGML kigkonsult.se iCalcreator 2.41.71//
CALSCALE:GREGORIAN
METHOD:PUBLISH
UID:62623564-6431-4063-b265-376162316436
X-WR-CALNAME:JCal Pro Calendar
X-WR-CALDESC:Your online events calendar
X-WR-TIMEZONE:America/Chicago
BEGIN:VTIMEZONE
TZID:America/Chicago
TZUNTIL:20271107T070000Z
BEGIN:STANDARD
TZNAME:CST
DTSTART:20251102T020000
TZOFFSETFROM:-0500
TZOFFSETTO:-0600
RDATE:20261101T020000
END:STANDARD
BEGIN:DAYLIGHT
TZNAME:CDT
DTSTART:20260308T020000
TZOFFSETFROM:-0600
TZOFFSETTO:-0500
RDATE:20270314T020000
END:DAYLIGHT
END:VTIMEZONE
BEGIN:VEVENT
UID:20230317T090000CDT-42408wjwaW@https://gclra.realtor/
DTSTAMP:20260422T180113Z
CATEGORIES:Meetings
DTSTART;TZID=America/Chicago:20230317T090000
DTEND;TZID=America/Chicago:20230320T000000
SUMMARY:Leadership Meetings
URL:https://gclra.realtor/consumer-events/81-meetings/3836-leadership-meeti
 ngs
END:VEVENT
BEGIN:VEVENT
UID:20230323T120000CDT-44881p4p2V@https://gclra.realtor/
DTSTAMP:20260422T180113Z
CATEGORIES:Meetings
DTSTART;TZID=America/Chicago:20230323T120000
DTEND;TZID=America/Chicago:20230323T130000
SUMMARY:BOD Meeting
URL:https://gclra.realtor/consumer-events/81-meetings/3835-bod-meeting
END:VEVENT
END:VCALENDAR
